BEGIN:VCALENDAR
VERSION:2.0
PRODID:-//wp-events-plugin.com//7.2.3.1//EN
TZID:Europe/Copenhagen
X-WR-TIMEZONE:Europe/Copenhagen
BEGIN:VEVENT
UID:136@ol-god.dk
DTSTART;TZID=Europe/Copenhagen:20260807T190000
DTEND;TZID=Europe/Copenhagen:20260808T234500
DTSTAMP:20260212T061025Z
URL:https://ol-god.dk/events/5alive/
SUMMARY:5aLive
DESCRIPTION:5aLive er et yderst professionelt partyband med omfattende erfa
 ring i at levere underholdning til alle former for arrangementer. Bandet h
 ar en stolt tradition for at skabe festlige begivenheder\, uanset om det d
 rejer sig om et halbal\, en firmafest eller en mere intim privat sammenkom
 st. Med fem meget erfarne musikere\, der tilsammen har årtiers erfaring m
 ed at fylde dansegulve over hele landet\, er 5aLive garant for en uforglem
 melig aften. Deres repertoire spænder bredt og kan tilpasses enhver forsa
 mling\, placering og aldersgrupp
ATTACH;FMTTYPE=image/jpeg:https://ol-god.dk/wp-content/uploads/2026/02/5Al
 ive-foto.jpeg
END:VEVENT
BEGIN:VTIMEZONE
TZID:Europe/Copenhagen
X-LIC-LOCATION:Europe/Copenhagen
BEGIN:DAYLIGHT
DTSTART:20260329T030000
TZOFFSETFROM:+0100
TZOFFSETTO:+0200
TZNAME:CEST
END:DAYLIGHT
END:VTIMEZONE
END:VCALENDAR