BEGIN:VCALENDAR
VERSION:2.0
PRODID:-//wp-events-plugin.com//7.2.3.1//EN
TZID:Europe/Copenhagen
X-WR-TIMEZONE:Europe/Copenhagen
BEGIN:VEVENT
UID:210@ol-god.dk
DTSTART;TZID=Europe/Copenhagen:20260822T000000
DTEND;TZID=Europe/Copenhagen:20260822T000000
DTSTAMP:20260221T161746Z
URL:https://ol-god.dk/events/grisefest-paa-oelgod/
SUMMARY:GriseFest på Ølgod
DESCRIPTION:Grisefest på Ølgod\nVi holder vores grisefest Lørdag d. 22 A
 ugust - mere info kommer.\n\n&nbsp\;
ATTACH;FMTTYPE=image/jpeg:https://ol-god.dk/wp-content/uploads/2025/04/369
 527850_684050670408561_6999317477453422607_n.jpg
END:VEVENT
BEGIN:VTIMEZONE
TZID:Europe/Copenhagen
X-LIC-LOCATION:Europe/Copenhagen
BEGIN:DAYLIGHT
DTSTART:20260329T030000
TZOFFSETFROM:+0100
TZOFFSETTO:+0200
TZNAME:CEST
END:DAYLIGHT
END:VTIMEZONE
END:VCALENDAR