BEGIN:VCALENDAR
VERSION:2.0
PRODID:-//wp-events-plugin.com//7.2.3.1//EN
TZID:Europe/Copenhagen
X-WR-TIMEZONE:Europe/Copenhagen
BEGIN:VEVENT
UID:137@ol-god.dk
DTSTART;TZID=Europe/Copenhagen:20260327T190000
DTEND;TZID=Europe/Copenhagen:20260328T234500
DTSTAMP:20260205T200540Z
URL:https://ol-god.dk/events/montanaband/
SUMMARY:Montanaband
DESCRIPTION:Levende musik og gang i dansegulvet\nNyd dæmpet musik og gode 
 sangstemmer under middagen og træk så i danseskoene efterfølgende\, nå
 r Montanaband spiller op til mange timers god underholdning på et garante
 ret fyldt dansegulv. Musikken henter Montanaband bl.a. fra tiden med Greas
 e\, Abba\, AC/DC\, Queen og Melodi Grand Prix-genren\, men glæd dig også
  til at høre masser hits fra 80´erne og i dag.\n\nMontanaband optræder 
 primært som trio\, men kan også engageres i konstellationer helt op til 
 7 personer\, hvorfor bandet kan tilpasses ethvert arrangement uanset stør
 relse\, alderssammensætning og lokaleforhold. Repertoiret er SÆRDELES br
 edt med musik fra Liva Weel til Ed Sheeran\, fra sømands-viser til Uptown
  Funk… og alt derimellem. Og hele herligheden bliver serveret af friske 
 musikere med entusiasme\, spilleglæde\, gode vokaler og store smil.
ATTACH;FMTTYPE=image/jpeg:https://ol-god.dk/wp-content/uploads/2025/03/Mon
 tanaBand-1536x1024-1.jpg
END:VEVENT
BEGIN:VTIMEZONE
TZID:Europe/Copenhagen
X-LIC-LOCATION:Europe/Copenhagen
BEGIN:STANDARD
DTSTART:20251026T020000
TZOFFSETFROM:+0200
TZOFFSETTO:+0100
TZNAME:CET
END:STANDARD
END:VTIMEZONE
END:VCALENDAR