BEGIN:VCALENDAR
VERSION:2.0
PRODID:-//wp-events-plugin.com//7.2.3.1//EN
TZID:Europe/Copenhagen
X-WR-TIMEZONE:Europe/Copenhagen
BEGIN:VEVENT
UID:147@ol-god.dk
DTSTART;TZID=Europe/Copenhagen:20260417T190000
DTEND;TZID=Europe/Copenhagen:20260418T234500
DTSTAMP:20260205T211116Z
URL:https://ol-god.dk/events/petmics/
SUMMARY:PetMic's
DESCRIPTION:En humørbombe af en duo\nFantastisk spilleglæde\, altid godt 
 humør samt fornemmelsen for publikums musikønsker. Det er de tre kodeord
 \, når PetMic’s går på scenen.\n\nHumørbomben af en duo består af P
 eter og Stafan hvis musikalitet spænder over alt lige fra pop\, rock\, da
 nske samt udenlandske slagere og ikke mindst de nye toner. Derudover kompo
 nerer PetMic’s også deres egen musik. Høflige og velklædte forfører 
 de deres publikum\, så alle er sikre på at gå hjem med et godt humør o
 g en stemning\, de sent vil glemme.
ATTACH;FMTTYPE=image/jpeg:https://ol-god.dk/wp-content/uploads/2024/02/Pet
 Mics_pressefoto.jpg
END:VEVENT
BEGIN:VTIMEZONE
TZID:Europe/Copenhagen
X-LIC-LOCATION:Europe/Copenhagen
BEGIN:DAYLIGHT
DTSTART:20260329T030000
TZOFFSETFROM:+0100
TZOFFSETTO:+0200
TZNAME:CEST
END:DAYLIGHT
END:VTIMEZONE
END:VCALENDAR