BEGIN:VCALENDAR
VERSION:2.0
PRODID:-//wp-events-plugin.com//7.2.3.1//EN
TZID:Europe/Copenhagen
X-WR-TIMEZONE:Europe/Copenhagen
BEGIN:VEVENT
UID:178@ol-god.dk
DTSTART;TZID=Europe/Copenhagen:20260617T130000
DTEND;TZID=Europe/Copenhagen:20260617T170000
DTSTAMP:20260205T230227Z
URL:https://ol-god.dk/events/senior-dans-paa-oelgod-15/
SUMMARY:Senior dans på Ølgod
DESCRIPTION:Senior dans på Ølgod med vores spillemand Brian. Alle er velk
 omne til en hyggelig dag med dans og sang.
ATTACH;FMTTYPE=image/jpeg:https://ol-god.dk/wp-content/uploads/2026/02/491
 858796_1091998046280486_1483722609008278394_n.jpg
END:VEVENT
BEGIN:VTIMEZONE
TZID:Europe/Copenhagen
X-LIC-LOCATION:Europe/Copenhagen
BEGIN:DAYLIGHT
DTSTART:20260329T030000
TZOFFSETFROM:+0100
TZOFFSETTO:+0200
TZNAME:CEST
END:DAYLIGHT
END:VTIMEZONE
END:VCALENDAR