BEGIN:VCALENDAR
VERSION:2.0
PRODID:-//wp-events-plugin.com//7.2.3.1//EN
TZID:Europe/Copenhagen
X-WR-TIMEZONE:Europe/Copenhagen
BEGIN:VEVENT
UID:133@ol-god.dk
DTSTART;TZID=Europe/Copenhagen:20260514T190000
DTEND;TZID=Europe/Copenhagen:20260514T220000
DTSTAMP:20260205T194518Z
URL:https://ol-god.dk/events/shubiforsjov-duo/
SUMMARY:Shubiforsjov DUO
DESCRIPTION:Shubiforsjov DUO\n&nbsp\;\n\nGlæd dig til et genhør - og syng
  med på - nogle af de helt store Shu-bi-dua hits som Den røde tråd\, Vu
 ffelivov\, Står på en alpetop\, Askepot\, Danmark og mange flere. Der bl
 iver også plads til numre med lidt mere fart over feltet som Fed rock\, T
 ryk på og Stærk Tobak. Shubiforsjov DUO sammensætter repertoiret efter 
 publikum og supplerer med lidt muntre betragtninger igennem showet.\n\n&nb
 sp\;\n\n&nbsp\;
ATTACH;FMTTYPE=image/jpeg:https://ol-god.dk/wp-content/uploads/2026/02/Shu
 biforsjov-DUO-banner-til-Facebook-2022-1-1536x786-1.jpg
END:VEVENT
BEGIN:VTIMEZONE
TZID:Europe/Copenhagen
X-LIC-LOCATION:Europe/Copenhagen
BEGIN:DAYLIGHT
DTSTART:20260329T030000
TZOFFSETFROM:+0100
TZOFFSETTO:+0200
TZNAME:CEST
END:DAYLIGHT
END:VTIMEZONE
END:VCALENDAR